BEGIN:VCALENDAR
VERSION:2.0
CALSCALE:GREGORIAN
METHOD:PUBLISH
X-WR-TIMEZONE:Australia/Sydney
BEGIN:VTIMEZONE
TZID:Australia/Sydney
BEGIN:STANDARD
TZNAME:AEST
DTSTART:19700101T000000
TZOFFSETFROM:+1100
TZOFFSETTO:+1000
END:STANDARD
END:VTIMEZONE
BEGIN:VEVENT
DTSTART;TZID=Australia/Sydney:20190212T133000
DTEND;TZID=Australia/Sydney:20190212T150000
DTSTAMP:20260425T030421
UID:170
SUMMARY:P&amp;C Information Session
DESCRIPTION:




Tuesday 12th February at 1.30pm in the Staff Room
Did you know that the P&amp;amp;C Committee are responsible for running our school canteen?Come along and find out more about what the P&amp;amp;C does at Safety Bay Primary School. If you are interested in becoming a general member, or&amp;nbsp;if you would like to find out more about taking on a role on the Committee,&amp;nbsp; then this is a great time to get more information and ask questions, also you&#039;re welcome to come along if you would like to meet and make new friends. Children are welcome to come along and enjoy some supervised activities.I look forward to seeing you there.
Corrine Moseley
P&amp;amp;C President


SEQUENCE:0
STATUS:CONFIRMED
TRANSP:OPAQUE
END:VEVENT
END:VCALENDAR